BEGIN:VCALENDAR
VERSION:2.0
PRODID:icalendar-ruby
CALSCALE:GREGORIAN
METHOD:PUBLISH
BEGIN:VEVENT
DTSTAMP:20260419T224734Z
UID:7-384304@gatewayva.org
DTSTART:20260906T180000Z
DTEND:20260906T190000Z
CLASS:PUBLIC
CREATED:20260419T132227
DESCRIPTION:
LAST-MODIFIED:20260419T132227
LOCATION:
SUMMARY:Sunday Morning Meeting
URL;VALUE=URI:https://www.gatewayva.org/events/sunday-morning-meeting/2026-
 09-06
ATTACH;FILENAME=482198685_665070409198569_4839632272368502929_n.jpg;FMTTYPE
 =image/jpeg:https://dq5pwpg1q8ru0.cloudfront.net/2025/05/28/19/38/07/a7d49
 464-2c6b-4c08-8fdf-ed79bbf18032/482198685_665070409198569_4839632272368502
 929_n.jpg
END:VEVENT
END:VCALENDAR
